BEGIN:VCALENDAR
VERSION:2.0
PRODID:-//USKA - ECPv6.15.20//NONSGML v1.0//EN
CALSCALE:GREGORIAN
METHOD:PUBLISH
X-ORIGINAL-URL:https://new.uska.ch
X-WR-CALDESC:Veranstaltungen im USKA
REFRESH-INTERVAL;VALUE=DURATION:PT1H
X-Robots-Tag:noindex
X-PUBLISHED-TTL:PT1H
BEGIN:VTIMEZONE
TZID:Europe/Zurich
BEGIN:DAYLIGHT
TZOFFSETFROM:+0100
TZOFFSETTO:+0200
TZNAME:CEST
DTSTART:20250330T010000
END:DAYLIGHT
BEGIN:STANDARD
TZOFFSETFROM:+0200
TZOFFSETTO:+0100
TZNAME:CET
DTSTART:20251026T010000
END:STANDARD
BEGIN:DAYLIGHT
TZOFFSETFROM:+0100
TZOFFSETTO:+0200
TZNAME:CEST
DTSTART:20260329T010000
END:DAYLIGHT
BEGIN:STANDARD
TZOFFSETFROM:+0200
TZOFFSETTO:+0100
TZNAME:CET
DTSTART:20261025T010000
END:STANDARD
BEGIN:DAYLIGHT
TZOFFSETFROM:+0100
TZOFFSETTO:+0200
TZNAME:CEST
DTSTART:20270328T010000
END:DAYLIGHT
BEGIN:STANDARD
TZOFFSETFROM:+0200
TZOFFSETTO:+0100
TZNAME:CET
DTSTART:20271031T010000
END:STANDARD
END:VTIMEZONE
BEGIN:VEVENT
DTSTART;TZID=Europe/Zurich:20260425T000000
DTEND;TZID=Europe/Zurich:20260425T235959
DTSTAMP:20260424T021118
CREATED:20260421T151846Z
LAST-MODIFIED:20260421T151846Z
UID:5772-1777075200-1777161599@new.uska.ch
SUMMARY:International Marconi Day
DESCRIPTION:Geburtstag Marconi (25.04.1874)
URL:https://new.uska.ch/event/international-marconi-day/
CATEGORIES:USKA-Event
END:VEVENT
BEGIN:VEVENT
DTSTART;TZID=Europe/Zurich:20260425T000000
DTEND;TZID=Europe/Zurich:20260426T235959
DTSTAMP:20260424T021118
CREATED:20260421T150043Z
LAST-MODIFIED:20260421T150043Z
UID:5740-1777075200-1777247999@new.uska.ch
SUMMARY:H26-Contest
DESCRIPTION:Helvetia 26 Contest
URL:https://new.uska.ch/event/h26-contest/
CATEGORIES:Contest
END:VEVENT
BEGIN:VEVENT
DTSTART;TZID=Europe/Zurich:20260427T000000
DTEND;TZID=Europe/Zurich:20260427T235959
DTSTAMP:20260424T021118
CREATED:20260421T151846Z
LAST-MODIFIED:20260423T142504Z
UID:5773-1777248000-1777334399@new.uska.ch
SUMMARY:Morse Code Day
DESCRIPTION:Jährlicher Aktionstag Morsetelegrafie
URL:https://new.uska.ch/event/tag-des-morsezeichens/
CATEGORIES:USKA-Event
END:VEVENT
BEGIN:VEVENT
DTSTART;TZID=Europe/Zurich:20260428T000000
DTEND;TZID=Europe/Zurich:20260428T235959
DTSTAMP:20260424T021118
CREATED:20260421T151847Z
LAST-MODIFIED:20260423T142504Z
UID:5774-1777334400-1777420799@new.uska.ch
SUMMARY:EMC Level 1 Videoconference (DE) — Apr
DESCRIPTION:Ausbildungs-Videokonferenz
URL:https://new.uska.ch/event/emc-level-1-videokonferenz-d-apr/
CATEGORIES:USKA-Event
END:VEVENT
BEGIN:VEVENT
DTSTART;TZID=Europe/Zurich:20260509T000000
DTEND;TZID=Europe/Zurich:20260509T235959
DTSTAMP:20260424T021118
CREATED:20260421T150043Z
LAST-MODIFIED:20260421T150043Z
UID:5742-1778284800-1778371199@new.uska.ch
SUMMARY:SARD — Swiss Amateur Radio Day
DESCRIPTION:Öffentlicher Aktionstag
URL:https://new.uska.ch/event/sard-swiss-amateur-radio-day/
CATEGORIES:USKA-Event
END:VEVENT
BEGIN:VEVENT
DTSTART;TZID=Europe/Zurich:20260526T000000
DTEND;TZID=Europe/Zurich:20260526T235959
DTSTAMP:20260424T021118
CREATED:20260421T151847Z
LAST-MODIFIED:20260423T142504Z
UID:5775-1779753600-1779839999@new.uska.ch
SUMMARY:EMC Level 1 Videoconference (DE) — May
DESCRIPTION:Ausbildungs-Videokonferenz
URL:https://new.uska.ch/event/emc-level-1-videokonferenz-d-mai/
CATEGORIES:USKA-Event
END:VEVENT
BEGIN:VEVENT
DTSTART;TZID=Europe/Zurich:20260606T000000
DTEND;TZID=Europe/Zurich:20260607T235959
DTSTAMP:20260424T021118
CREATED:20260421T150043Z
LAST-MODIFIED:20260421T150043Z
UID:5744-1780704000-1780876799@new.uska.ch
SUMMARY:Field-Day-Contest CW
DESCRIPTION:
URL:https://new.uska.ch/event/field-day-contest-cw/
CATEGORIES:Contest
END:VEVENT
BEGIN:VEVENT
DTSTART;TZID=Europe/Zurich:20260626T000000
DTEND;TZID=Europe/Zurich:20260628T235959
DTSTAMP:20260424T021118
CREATED:20260421T150043Z
LAST-MODIFIED:20260421T150043Z
UID:5747-1782432000-1782691199@new.uska.ch
SUMMARY:HAM RADIO (FDH)
DESCRIPTION:Friedrichshafen exhibition
URL:https://new.uska.ch/event/ham-radio-fdh/
CATEGORIES:USKA-Event
END:VEVENT
BEGIN:VEVENT
DTSTART;TZID=Europe/Zurich:20260707T000000
DTEND;TZID=Europe/Zurich:20260713T235959
DTSTAMP:20260424T021118
CREATED:20260421T151847Z
LAST-MODIFIED:20260421T151847Z
UID:5776-1783382400-1783987199@new.uska.ch
SUMMARY:WRTC UK 2026
DESCRIPTION:World Radio Team Championship UK
URL:https://new.uska.ch/event/wrtc-uk-2026/
CATEGORIES:Contest
END:VEVENT
BEGIN:VEVENT
DTSTART;TZID=Europe/Zurich:20260711T000000
DTEND;TZID=Europe/Zurich:20260712T235959
DTSTAMP:20260424T021118
CREATED:20260421T150043Z
LAST-MODIFIED:20260421T150043Z
UID:5748-1783728000-1783900799@new.uska.ch
SUMMARY:HB9HQ-Contest
DESCRIPTION:IARU HF World Championship
URL:https://new.uska.ch/event/hb9hq-contest/
CATEGORIES:Contest
END:VEVENT
BEGIN:VEVENT
DTSTART;TZID=Europe/Zurich:20260719T000000
DTEND;TZID=Europe/Zurich:20260719T235959
DTSTAMP:20260424T021118
CREATED:20260421T150043Z
LAST-MODIFIED:20260421T150043Z
UID:5749-1784419200-1784505599@new.uska.ch
SUMMARY:NMD-Contest
DESCRIPTION:National Mountain Day contest
URL:https://new.uska.ch/event/nmd-contest/
CATEGORIES:Contest
END:VEVENT
BEGIN:VEVENT
DTSTART;TZID=Europe/Zurich:20260808T000000
DTEND;TZID=Europe/Zurich:20260808T235959
DTSTAMP:20260424T021118
CREATED:20260421T150044Z
LAST-MODIFIED:20260423T142503Z
UID:5750-1786147200-1786233599@new.uska.ch
SUMMARY:NMD Meeting
DESCRIPTION:National Mountain Day Treffen
URL:https://new.uska.ch/event/nmd-treffen/
CATEGORIES:USKA-Event
END:VEVENT
BEGIN:VEVENT
DTSTART;TZID=Europe/Zurich:20260825T000000
DTEND;TZID=Europe/Zurich:20260825T235959
DTSTAMP:20260424T021118
CREATED:20260421T151847Z
LAST-MODIFIED:20260423T142504Z
UID:5777-1787616000-1787702399@new.uska.ch
SUMMARY:EMC Level 1 Videoconference (DE) — Aug
DESCRIPTION:Ausbildungs-Videokonferenz
URL:https://new.uska.ch/event/emc-level-1-videokonferenz-d-aug/
CATEGORIES:USKA-Event
END:VEVENT
BEGIN:VEVENT
DTSTART;TZID=Europe/Zurich:20260905T000000
DTEND;TZID=Europe/Zurich:20260906T235959
DTSTAMP:20260424T021118
CREATED:20260421T150044Z
LAST-MODIFIED:20260421T150044Z
UID:5752-1788566400-1788739199@new.uska.ch
SUMMARY:Field-Day-Contest SSB
DESCRIPTION:
URL:https://new.uska.ch/event/field-day-contest-ssb/
CATEGORIES:Contest
END:VEVENT
BEGIN:VEVENT
DTSTART;TZID=Europe/Zurich:20260929T000000
DTEND;TZID=Europe/Zurich:20260929T235959
DTSTAMP:20260424T021118
CREATED:20260421T151847Z
LAST-MODIFIED:20260423T142504Z
UID:5778-1790640000-1790726399@new.uska.ch
SUMMARY:EMC Level 1 Videoconference (DE) — Sep
DESCRIPTION:Ausbildungs-Videokonferenz
URL:https://new.uska.ch/event/emc-level-1-videokonferenz-d-sep/
CATEGORIES:USKA-Event
END:VEVENT
BEGIN:VEVENT
DTSTART;TZID=Europe/Zurich:20261017T000000
DTEND;TZID=Europe/Zurich:20261018T235959
DTSTAMP:20260424T021118
CREATED:20260421T150044Z
LAST-MODIFIED:20260421T150044Z
UID:5756-1792195200-1792367999@new.uska.ch
SUMMARY:JOTA / JOTI
DESCRIPTION:Jamboree on the Air/Internet
URL:https://new.uska.ch/event/jota-joti/
CATEGORIES:USKA-Event
END:VEVENT
BEGIN:VEVENT
DTSTART;TZID=Europe/Zurich:20261027T000000
DTEND;TZID=Europe/Zurich:20261027T235959
DTSTAMP:20260424T021118
CREATED:20260421T151847Z
LAST-MODIFIED:20260423T142504Z
UID:5779-1793059200-1793145599@new.uska.ch
SUMMARY:EMC Level 1 Videoconference (DE) — Oct
DESCRIPTION:Ausbildungs-Videokonferenz
URL:https://new.uska.ch/event/emc-level-1-videokonferenz-d-okt/
CATEGORIES:USKA-Event
END:VEVENT
BEGIN:VEVENT
DTSTART;TZID=Europe/Zurich:20261031T000000
DTEND;TZID=Europe/Zurich:20261031T235959
DTSTAMP:20260424T021118
CREATED:20260421T150044Z
LAST-MODIFIED:20260423T142504Z
UID:5757-1793404800-1793491199@new.uska.ch
SUMMARY:HamFest with SPK and Surplus Party
DESCRIPTION:
URL:https://new.uska.ch/event/hamfest-mit-spk-und-surplusparty/
CATEGORIES:USKA-Event
END:VEVENT
BEGIN:VEVENT
DTSTART;TZID=Europe/Zurich:20261107T000000
DTEND;TZID=Europe/Zurich:20261107T235959
DTSTAMP:20260424T021118
CREATED:20260421T150044Z
LAST-MODIFIED:20260421T150044Z
UID:5759-1794009600-1794095999@new.uska.ch
SUMMARY:SEC-Contest
DESCRIPTION:Swiss Emergency Contest
URL:https://new.uska.ch/event/sec-contest/
CATEGORIES:Contest
END:VEVENT
BEGIN:VEVENT
DTSTART;TZID=Europe/Zurich:20261114T000000
DTEND;TZID=Europe/Zurich:20261114T235959
DTSTAMP:20260424T021118
CREATED:20260421T150044Z
LAST-MODIFIED:20260423T142504Z
UID:5760-1794614400-1794700799@new.uska.ch
SUMMARY:SWISS ARTG (AGM)
DESCRIPTION:Partner org GV
URL:https://new.uska.ch/event/swiss-artg-gv/
CATEGORIES:USKA-Event
END:VEVENT
BEGIN:VEVENT
DTSTART;TZID=Europe/Zurich:20261124T000000
DTEND;TZID=Europe/Zurich:20261124T235959
DTSTAMP:20260424T021118
CREATED:20260421T151847Z
LAST-MODIFIED:20260423T142504Z
UID:5780-1795478400-1795564799@new.uska.ch
SUMMARY:EMC Level 1 Videoconference (DE) — Nov
DESCRIPTION:Ausbildungs-Videokonferenz
URL:https://new.uska.ch/event/emc-level-1-videokonferenz-d-nov/
CATEGORIES:USKA-Event
END:VEVENT
BEGIN:VEVENT
DTSTART;TZID=Europe/Zurich:20261203T000000
DTEND;TZID=Europe/Zurich:20261203T235959
DTSTAMP:20260424T021118
CREATED:20260421T150044Z
LAST-MODIFIED:20260423T142504Z
UID:5761-1796256000-1796342399@new.uska.ch
SUMMARY:PDRA Day (VHS/HB9O)
DESCRIPTION:Program for Disabled Radio Amateurs
URL:https://new.uska.ch/event/pdra-tag-vhs-hb9o/
CATEGORIES:USKA-Event
END:VEVENT
BEGIN:VEVENT
DTSTART;TZID=Europe/Zurich:20261205T000000
DTEND;TZID=Europe/Zurich:20261205T235959
DTSTAMP:20260424T021118
CREATED:20260421T150044Z
LAST-MODIFIED:20260421T150044Z
UID:5762-1796428800-1796515199@new.uska.ch
SUMMARY:XMAS-Contest SSB+Digi
DESCRIPTION:
URL:https://new.uska.ch/event/xmas-contest-ssbdigi/
CATEGORIES:Contest
END:VEVENT
BEGIN:VEVENT
DTSTART;TZID=Europe/Zurich:20261212T000000
DTEND;TZID=Europe/Zurich:20261212T235959
DTSTAMP:20260424T021118
CREATED:20260421T150045Z
LAST-MODIFIED:20260421T150045Z
UID:5764-1797033600-1797119999@new.uska.ch
SUMMARY:XMAS-Contest CW+Digi
DESCRIPTION:
URL:https://new.uska.ch/event/xmas-contest-cwdigi/
CATEGORIES:Contest
END:VEVENT
BEGIN:VEVENT
DTSTART;TZID=Europe/Zurich:20261226T000000
DTEND;TZID=Europe/Zurich:20261226T235959
DTSTAMP:20260424T021118
CREATED:20260421T151847Z
LAST-MODIFIED:20260421T151847Z
UID:5781-1798243200-1798329599@new.uska.ch
SUMMARY:DARC Christmas Contest
DESCRIPTION:External contest
URL:https://new.uska.ch/event/darc-christmas-contest/
CATEGORIES:Contest
END:VEVENT
END:VCALENDAR